BEGIN:VCALENDAR
VERSION:2.0
PRODID:-//Doggie Home from Home - ECPv6.2.8.1//NONSGML v1.0//EN
CALSCALE:GREGORIAN
METHOD:PUBLISH
X-WR-CALNAME:Doggie Home from Home
X-ORIGINAL-URL:https://www.doggiehomefromhome.com
X-WR-CALDESC:Events for Doggie Home from Home
REFRESH-INTERVAL;VALUE=DURATION:PT1H
X-Robots-Tag:noindex
X-PUBLISHED-TTL:PT1H
BEGIN:VTIMEZONE
TZID:Europe/London
BEGIN:DAYLIGHT
TZOFFSETFROM:+0000
TZOFFSETTO:+0100
TZNAME:BST
DTSTART:20230326T010000
END:DAYLIGHT
BEGIN:STANDARD
TZOFFSETFROM:+0100
TZOFFSETTO:+0000
TZNAME:GMT
DTSTART:20231029T010000
END:STANDARD
END:VTIMEZONE
BEGIN:VEVENT
DTSTART;TZID=Europe/London:20230920T173000
DTEND;TZID=Europe/London:20231025T183000
DTSTAMP:20260426T042615
CREATED:20230726T220004Z
LAST-MODIFIED:20230726T223157Z
UID:4005-1695231000-1698258600@www.doggiehomefromhome.com
SUMMARY:Perfect Pupster - 6 Week Training Course
DESCRIPTION:6 week training course run every Wednesday\, 5.30pm to 6.30pm from September 20th 2023 until September 13th 2023 \n£90 \n  \nBook & Pay Now
URL:https://www.doggiehomefromhome.com/event/perfect-pupster-6-week-training-course/
LOCATION:Barlborough Village Hall\, High Street\, Barlborough\, Chesterfield\, S43 4ET\, United Kingdom
END:VEVENT
END:VCALENDAR